BEGIN:VCALENDAR
VERSION:2.0
PRODID:-//Tukios.com/
BEGIN:VEVENT
UID:d5ac6303-c6a7-4203-b57c-ba871b7ef081@www.andersriceandroper.com
DTSTAMP:20260421T142417Z
DTSTART:20260422T160000Z
DTEND:20260422T170000Z
SUMMARY:Visitation
DESCRIPTION:
URL:https://www.andersriceandroper.com/obituaries/judy-bryson-young
LOCATION: 1428 Patton Avenue  Asheville NC 28806
GEO:35.5799673;-82.6079801
END:VEVENT
END:VCALENDAR