BEGIN:VCALENDAR
VERSION:2.0
PRODID:-//Tukios.com/
BEGIN:VEVENT
UID:32ca89a3-a4d4-4131-83a7-68faa134a287@www.andersriceandroper.com
DTSTAMP:20260421T142540Z
DTSTART:20260422T190000Z
DTEND:20260422T200000Z
SUMMARY:Graveside Service
DESCRIPTION:
URL:https://www.andersriceandroper.com/obituaries/judy-bryson-young
LOCATION:Cullowhee Baptist Church Cemetery 148 Central Dr  Cullowhee NC 
	28723
GEO:35.3131636;-83.1789241
END:VEVENT
END:VCALENDAR